BEGIN:VCALENDAR
VERSION:2.0
PRODID:-//Alpina Herisau - ECPv6.15.20//NONSGML v1.0//EN
CALSCALE:GREGORIAN
METHOD:PUBLISH
X-ORIGINAL-URL:https://www.alpina-herisau.ch
X-WR-CALDESC:Veranstaltungen für Alpina Herisau
REFRESH-INTERVAL;VALUE=DURATION:PT1H
X-Robots-Tag:noindex
X-PUBLISHED-TTL:PT1H
BEGIN:VTIMEZONE
TZID:UTC
BEGIN:STANDARD
TZOFFSETFROM:+0000
TZOFFSETTO:+0000
TZNAME:UTC
DTSTART:20240101T000000
END:STANDARD
END:VTIMEZONE
BEGIN:VEVENT
DTSTART;VALUE=DATE:20250706
DTEND;VALUE=DATE:20250707
DTSTAMP:20260421T082407
CREATED:20250301T153130Z
LAST-MODIFIED:20250620T082547Z
UID:1227-1751760000-1751846399@www.alpina-herisau.ch
SUMMARY:Paradiel Rundtour\, Wangs-Bettlerweg- Pardiel
DESCRIPTION:Ab der Talstation Pizolbahn lassen wir uns mit der Seilbahn zum Pardiel bringen.\nDa starten wir die Rundwanderung. Schon nach einer halben Stunde auf dem schönen\nHeidiweg gibt es im Schwarzbüel einen Kaffeehalt. \nNun geht es bergaufwärts zur Pizolhütte\, vorbei am Vilteserseeli. \nBei der Pizolhütte machen wir den verdienten Mittagsrast mit Picknick.\nSchon geht’s wieder talwärts dem Bettlerweg entlang bis Pardiel.\nGesamte Wanderzeit ca. 4 Stunden\nCa. 650 Höhenmeter bergwärts und gleich viel wieder retour \nAnreise mit Bahn:\nHerisau ab 7.13 Uhr\,\nUznach ab 7.46 Uhr\nZiegelbrücke ab8.00 Uhr\nBad Ragaz ab 8.30 Uhr\nBad Ragaz mit Bus 456 um 8.34 Uhr zur Talstation Pizol\nAnkunft Talstation 8.58Uhr\noder\nAnreise mit Auto: Treffpunkt 9.00 Uhr bei der Talstation Pizol (Bad Ragaz).\nBitte Ticket zum Pardiel retour lösen.\nUm eventuelle Fahrgemeinschaften zu bilden\, bitte anmelden bis 2. Juli 2025 bei\nMarie-Theres 079 549 91 39\nAls Zugabe lade ich alle ein\, die Lust und Zeit haben\, einen Schlussdrunk in Vilters zu\ngeniessen!!!\nSomit ist die Heimreise offen\, je nach Bedarf!\nIch freue mich auf eine aufgestellte Wanderschar\nMarie-Theres
URL:https://www.alpina-herisau.ch/event/paradiel-rundtour-wangs-bettlerweg-pardiel/
END:VEVENT
END:VCALENDAR