BEGIN:VCALENDAR
VERSION:2.0
PRODID:-//Alpina Herisau - ECPv6.15.20//NONSGML v1.0//EN
CALSCALE:GREGORIAN
METHOD:PUBLISH
X-WR-CALNAME:Alpina Herisau
X-ORIGINAL-URL:https://www.alpina-herisau.ch
X-WR-CALDESC:Veranstaltungen für Alpina Herisau
REFRESH-INTERVAL;VALUE=DURATION:PT1H
X-Robots-Tag:noindex
X-PUBLISHED-TTL:PT1H
BEGIN:VTIMEZONE
TZID:UTC
BEGIN:STANDARD
TZOFFSETFROM:+0000
TZOFFSETTO:+0000
TZNAME:UTC
DTSTART:20250101T000000
END:STANDARD
END:VTIMEZONE
BEGIN:VEVENT
DTSTART;TZID=UTC:20260101T160000
DTEND;TZID=UTC:20260101T233000
DTSTAMP:20260421T082044
CREATED:20250301T153405Z
LAST-MODIFIED:20250301T153405Z
UID:1239-1767283200-1767310200@www.alpina-herisau.ch
SUMMARY:Neujahrshöck
DESCRIPTION:
URL:https://www.alpina-herisau.ch/event/neujahrshoeck-2/
LOCATION:Kunzenmoos Herisau\, Schwellbrunnerstrasse 2467\, Herisau\, AR\, 9100\, Switzerland
END:VEVENT
END:VCALENDAR