BEGIN:VCALENDAR
VERSION:2.0
PRODID:-//Alpina Herisau - ECPv6.15.20//NONSGML v1.0//EN
CALSCALE:GREGORIAN
METHOD:PUBLISH
X-WR-CALNAME:Alpina Herisau
X-ORIGINAL-URL:https://www.alpina-herisau.ch
X-WR-CALDESC:Veranstaltungen für Alpina Herisau
REFRESH-INTERVAL;VALUE=DURATION:PT1H
X-Robots-Tag:noindex
X-PUBLISHED-TTL:PT1H
BEGIN:VTIMEZONE
TZID:UTC
BEGIN:STANDARD
TZOFFSETFROM:+0000
TZOFFSETTO:+0000
TZNAME:UTC
DTSTART:20250101T000000
END:STANDARD
END:VTIMEZONE
BEGIN:VEVENT
DTSTART;VALUE=DATE:20260517
DTEND;VALUE=DATE:20260518
DTSTAMP:20260419T153851
CREATED:20260131T141132Z
LAST-MODIFIED:20260131T141132Z
UID:1441-1778976000-1779062399@www.alpina-herisau.ch
SUMMARY:Frühlingswanderung
DESCRIPTION:
URL:https://www.alpina-herisau.ch/event/fruehlingswanderung-3/
END:VEVENT
BEGIN:VEVENT
DTSTART;VALUE=DATE:20260530
DTEND;VALUE=DATE:20260531
DTSTAMP:20260419T153851
CREATED:20260131T141208Z
LAST-MODIFIED:20260131T141208Z
UID:1443-1780099200-1780185599@www.alpina-herisau.ch
SUMMARY:Ebenalp / Schäfler
DESCRIPTION:
URL:https://www.alpina-herisau.ch/event/ebenalp-schaefler/
END:VEVENT
BEGIN:VEVENT
DTSTART;VALUE=DATE:20260620
DTEND;VALUE=DATE:20260621
DTSTAMP:20260419T153851
CREATED:20260131T141252Z
LAST-MODIFIED:20260131T141252Z
UID:1445-1781913600-1781999999@www.alpina-herisau.ch
SUMMARY:Appenzell-Reute-Fähnerenspitz-Hirschber-Gais
DESCRIPTION:
URL:https://www.alpina-herisau.ch/event/appenzell-reute-faehnerenspitz-hirschber-gais/
END:VEVENT
BEGIN:VEVENT
DTSTART;VALUE=DATE:20260704
DTEND;VALUE=DATE:20260705
DTSTAMP:20260419T153851
CREATED:20260131T141317Z
LAST-MODIFIED:20260131T141317Z
UID:1447-1783123200-1783209599@www.alpina-herisau.ch
SUMMARY:Feldis-Dreibündenstein Rundtour
DESCRIPTION:
URL:https://www.alpina-herisau.ch/event/feldis-dreibuendenstein-rundtour/
END:VEVENT
BEGIN:VEVENT
DTSTART;VALUE=DATE:20260822
DTEND;VALUE=DATE:20260823
DTSTAMP:20260419T153851
CREATED:20260131T141343Z
LAST-MODIFIED:20260131T141343Z
UID:1449-1787356800-1787443199@www.alpina-herisau.ch
SUMMARY:Brülisau-Alp Sigel-Plattenbödeli - Brülisau
DESCRIPTION:
URL:https://www.alpina-herisau.ch/event/bruelisau-alp-sigel-plattenboedeli-bruelisau/
END:VEVENT
BEGIN:VEVENT
DTSTART;VALUE=DATE:20260912
DTEND;VALUE=DATE:20260913
DTSTAMP:20260419T153851
CREATED:20260131T141411Z
LAST-MODIFIED:20260131T141411Z
UID:1451-1789171200-1789257599@www.alpina-herisau.ch
SUMMARY:Ibergeregg bis Sattel
DESCRIPTION:
URL:https://www.alpina-herisau.ch/event/ibergeregg-bis-sattel/
END:VEVENT
BEGIN:VEVENT
DTSTART;VALUE=DATE:20260919
DTEND;VALUE=DATE:20260920
DTSTAMP:20260419T153851
CREATED:20260131T141433Z
LAST-MODIFIED:20260131T141433Z
UID:1454-1789776000-1789862399@www.alpina-herisau.ch
SUMMARY:Pilzen mit Manuel
DESCRIPTION:
URL:https://www.alpina-herisau.ch/event/pilzen-mit-manuel-2/
END:VEVENT
BEGIN:VEVENT
DTSTART;VALUE=DATE:20261017
DTEND;VALUE=DATE:20261018
DTSTAMP:20260419T153851
CREATED:20260131T141451Z
LAST-MODIFIED:20260131T141451Z
UID:1456-1792195200-1792281599@www.alpina-herisau.ch
SUMMARY:Holzen
DESCRIPTION:
URL:https://www.alpina-herisau.ch/event/holzen-5/
END:VEVENT
BEGIN:VEVENT
DTSTART;VALUE=DATE:20261107
DTEND;VALUE=DATE:20261108
DTSTAMP:20260419T153851
CREATED:20260131T141516Z
LAST-MODIFIED:20260131T141516Z
UID:1458-1794009600-1794095999@www.alpina-herisau.ch
SUMMARY:Ruedi's Metzgete
DESCRIPTION:
URL:https://www.alpina-herisau.ch/event/ruedis-metzgete/
END:VEVENT
BEGIN:VEVENT
DTSTART;VALUE=DATE:20270101
DTEND;VALUE=DATE:20270102
DTSTAMP:20260419T153851
CREATED:20260131T141550Z
LAST-MODIFIED:20260131T141550Z
UID:1460-1798761600-1798847999@www.alpina-herisau.ch
SUMMARY:Neujahrshöck im Kunzenmoos
DESCRIPTION:
URL:https://www.alpina-herisau.ch/event/neujahrshoeck-im-kunzenmoos/
END:VEVENT
BEGIN:VEVENT
DTSTART;VALUE=DATE:20270116
DTEND;VALUE=DATE:20270117
DTSTAMP:20260419T153851
CREATED:20260131T141633Z
LAST-MODIFIED:20260131T141633Z
UID:1462-1800057600-1800143999@www.alpina-herisau.ch
SUMMARY:Laternliweg mit Fondue in der Hütte
DESCRIPTION:
URL:https://www.alpina-herisau.ch/event/laternliweg-mit-fondue-in-der-huette/
END:VEVENT
BEGIN:VEVENT
DTSTART;VALUE=DATE:20270226
DTEND;VALUE=DATE:20270227
DTSTAMP:20260419T153851
CREATED:20260131T141700Z
LAST-MODIFIED:20260131T141700Z
UID:1464-1803600000-1803686399@www.alpina-herisau.ch
SUMMARY:HV im Restaurant Park Heinrichsbad
DESCRIPTION:
URL:https://www.alpina-herisau.ch/event/hv-im-restaurant-park-heinrichsbad-2/
END:VEVENT
END:VCALENDAR