BEGIN:VCALENDAR
VERSION:2.0
PRODID:-//Alpina Herisau - ECPv6.15.20//NONSGML v1.0//EN
CALSCALE:GREGORIAN
METHOD:PUBLISH
X-WR-CALNAME:Alpina Herisau
X-ORIGINAL-URL:https://www.alpina-herisau.ch
X-WR-CALDESC:Veranstaltungen für Alpina Herisau
REFRESH-INTERVAL;VALUE=DURATION:PT1H
X-Robots-Tag:noindex
X-PUBLISHED-TTL:PT1H
BEGIN:VTIMEZONE
TZID:UTC
BEGIN:STANDARD
TZOFFSETFROM:+0000
TZOFFSETTO:+0000
TZNAME:UTC
DTSTART:20240101T000000
END:STANDARD
END:VTIMEZONE
BEGIN:VEVENT
DTSTART;VALUE=DATE:20251018
DTEND;VALUE=DATE:20251019
DTSTAMP:20260421T110906
CREATED:20250301T153239Z
LAST-MODIFIED:20250301T153250Z
UID:1235-1760745600-1760831999@www.alpina-herisau.ch
SUMMARY:Holzen ab 14.00 Lotto Match
DESCRIPTION:
URL:https://www.alpina-herisau.ch/event/holzen-ab-14-00-lotto-match/
LOCATION:Alpina Hütte\, Kleinwald 1167\, Urnäsch\, AR\, Switzerland
ORGANIZER;CN="H%C3%BCttenwart":MAILTO:wspirig@hispeed.ch
END:VEVENT
END:VCALENDAR